BEGIN:VCALENDAR
VERSION:2.0
PRODID:-//First Aztec - ECPv6.15.20//NONSGML v1.0//EN
CALSCALE:GREGORIAN
METHOD:PUBLISH
X-WR-CALNAME:First Aztec
X-ORIGINAL-URL:https://firstaztec.org
X-WR-CALDESC:Events for First Aztec
REFRESH-INTERVAL;VALUE=DURATION:PT1H
X-Robots-Tag:noindex
X-PUBLISHED-TTL:PT1H
BEGIN:VTIMEZONE
TZID:America/Denver
BEGIN:DAYLIGHT
TZOFFSETFROM:-0700
TZOFFSETTO:-0600
TZNAME:MDT
DTSTART:20250309T090000
END:DAYLIGHT
BEGIN:STANDARD
TZOFFSETFROM:-0600
TZOFFSETTO:-0700
TZNAME:MST
DTSTART:20251102T080000
END:STANDARD
BEGIN:DAYLIGHT
TZOFFSETFROM:-0700
TZOFFSETTO:-0600
TZNAME:MDT
DTSTART:20260308T090000
END:DAYLIGHT
BEGIN:STANDARD
TZOFFSETFROM:-0600
TZOFFSETTO:-0700
TZNAME:MST
DTSTART:20261101T080000
END:STANDARD
BEGIN:DAYLIGHT
TZOFFSETFROM:-0700
TZOFFSETTO:-0600
TZNAME:MDT
DTSTART:20270314T090000
END:DAYLIGHT
BEGIN:STANDARD
TZOFFSETFROM:-0600
TZOFFSETTO:-0700
TZNAME:MST
DTSTART:20271107T080000
END:STANDARD
END:VTIMEZONE
BEGIN:VEVENT
DTSTART;TZID=America/Denver:20260326T090000
DTEND;TZID=America/Denver:20260326T120000
DTSTAMP:20260421T062137
CREATED:20260108T014934Z
LAST-MODIFIED:20260129T021002Z
UID:10001615-1774515600-1774526400@firstaztec.org
SUMMARY:Quilting Ministry
DESCRIPTION:The Quilting Ministry meets on most Thursday morning’s from 9:00 am until 12:00 noon. All ages are invited! \nLearn more about the Quilting Ministry
URL:https://firstaztec.org/event/quilting-ministry/2026-03-26/
LOCATION:Our Church\, 700 Navajo Ave\, Aztec\, NM\, 87410\, United States
CATEGORIES:Quilting Ministry,Women's Ministry
ATTACH;FMTTYPE=image/jpeg:https://firstaztec.org/nsthree/wp-content/uploads/Quilting-2025-02-2.jpg
END:VEVENT
BEGIN:VEVENT
DTSTART;TZID=America/Denver:20260326T120000
DTEND;TZID=America/Denver:20260326T130000
DTSTAMP:20260421T062137
CREATED:20260108T015932Z
LAST-MODIFIED:20260312T004600Z
UID:10002137-1774526400-1774530000@firstaztec.org
SUMMARY:Youth Lunch
DESCRIPTION:We provide a lunch for the youth each Thursday at 12 noon for those that can leave campus.
URL:https://firstaztec.org/event/youth-lunch/2026-03-26/
LOCATION:Our Church\, 700 Navajo Ave\, Aztec\, NM\, 87410\, United States
CATEGORIES:Youth
ATTACH;FMTTYPE=image/jpeg:https://firstaztec.org/nsthree/wp-content/uploads/YOUTH-LUNCH.jpg
END:VEVENT
BEGIN:VEVENT
DTSTART;TZID=America/Denver:20260326T150000
DTEND;TZID=America/Denver:20260326T174500
DTSTAMP:20260421T062137
CREATED:20251116T155313Z
LAST-MODIFIED:20260312T005723Z
UID:10001340-1774537200-1774547100@firstaztec.org
SUMMARY:Blood Drive
DESCRIPTION:We will be hosting a Blood Drive on Thursday\, March 26th\, from 3:00 to 5:45 pm. Contact Suzanne Russell to make an appointment or for any questions. Walk-ins are welcome!
URL:https://firstaztec.org/event/blood-drive/
LOCATION:Our Church\, 700 Navajo Ave\, Aztec\, NM\, 87410\, United States
CATEGORIES:Community Event
ATTACH;FMTTYPE=image/png:https://firstaztec.org/nsthree/wp-content/uploads/Blood-Drive-March-26th.png
END:VEVENT
END:VCALENDAR