BEGIN:VCALENDAR
VERSION:2.0
PRODID:-//First Aztec - ECPv6.15.20//NONSGML v1.0//EN
CALSCALE:GREGORIAN
METHOD:PUBLISH
X-ORIGINAL-URL:https://firstaztec.org
X-WR-CALDESC:Events for First Aztec
REFRESH-INTERVAL;VALUE=DURATION:PT1H
X-Robots-Tag:noindex
X-PUBLISHED-TTL:PT1H
BEGIN:VTIMEZONE
TZID:America/Denver
BEGIN:DAYLIGHT
TZOFFSETFROM:-0700
TZOFFSETTO:-0600
TZNAME:MDT
DTSTART:20250309T090000
END:DAYLIGHT
BEGIN:STANDARD
TZOFFSETFROM:-0600
TZOFFSETTO:-0700
TZNAME:MST
DTSTART:20251102T080000
END:STANDARD
BEGIN:DAYLIGHT
TZOFFSETFROM:-0700
TZOFFSETTO:-0600
TZNAME:MDT
DTSTART:20260308T090000
END:DAYLIGHT
BEGIN:STANDARD
TZOFFSETFROM:-0600
TZOFFSETTO:-0700
TZNAME:MST
DTSTART:20261101T080000
END:STANDARD
BEGIN:DAYLIGHT
TZOFFSETFROM:-0700
TZOFFSETTO:-0600
TZNAME:MDT
DTSTART:20270314T090000
END:DAYLIGHT
BEGIN:STANDARD
TZOFFSETFROM:-0600
TZOFFSETTO:-0700
TZNAME:MST
DTSTART:20271107T080000
END:STANDARD
END:VTIMEZONE
BEGIN:VEVENT
DTSTART;TZID=America/Denver:20260329T080000
DTEND;TZID=America/Denver:20260329T120000
DTSTAMP:20260421T062116
CREATED:20260108T020838Z
LAST-MODIFIED:20260129T020709Z
UID:10002658-1774771200-1774785600@firstaztec.org
SUMMARY:Sunday Morning Services
DESCRIPTION:Sunday mornings start with breakfast at 8:00 am. Sunday School for all ages starts at 9:00 am followed by the Worship Service at 10:30 am.
URL:https://firstaztec.org/event/sunday-morning-services/2026-03-29/
CATEGORIES:Worship Service
ATTACH;FMTTYPE=image/jpeg:https://firstaztec.org/nsthree/wp-content/uploads/Worship-Services.jpg
END:VEVENT
BEGIN:VEVENT
DTSTART;TZID=America/Denver:20260329T120000
DTEND;TZID=America/Denver:20260329T133000
DTSTAMP:20260421T062116
CREATED:20260226T014934Z
LAST-MODIFIED:20260226T014934Z
UID:10003052-1774785600-1774791000@firstaztec.org
SUMMARY:Decision Time Encourager Meeting
DESCRIPTION:There will be a Decision Time Encourager Meeting on Sunday\, March 29th right after service. All of our current encouragers who are serving and those who are interested in joining this ministry team are encouraged to come to the meeting.
URL:https://firstaztec.org/event/decision-time-encourager-meeting/
LOCATION:Our Church\, 700 Navajo Ave\, Aztec\, NM\, 87410\, United States
CATEGORIES:Ministry Meeting
END:VEVENT
BEGIN:VEVENT
DTSTART;TZID=America/Denver:20260329T173000
DTEND;TZID=America/Denver:20260329T190000
DTSTAMP:20260421T062116
CREATED:20251018T172244Z
LAST-MODIFIED:20260129T021209Z
UID:10000663-1774805400-1774810800@firstaztec.org
SUMMARY:Discipleship Groups
DESCRIPTION:Discipleship groups are a great place to see your faith become more mature. They’re a great place to become disciple-makers\, and they’re a great place to be held accountable by other godly members as we walk closer with Christ. Classes available for children\, students\, and adults. \nView current classes.
URL:https://firstaztec.org/event/discipleship-groups/2026-03-29/
LOCATION:Our Church\, 700 Navajo Ave\, Aztec\, NM\, 87410\, United States
CATEGORIES:Discipleship Groups
ATTACH;FMTTYPE=image/png:https://firstaztec.org/nsthree/wp-content/uploads/Discipleship-Groups.png
END:VEVENT
BEGIN:VEVENT
DTSTART;TZID=America/Denver:20260329T173000
DTEND;TZID=America/Denver:20260329T193000
DTSTAMP:20260421T062116
CREATED:20251116T160032Z
LAST-MODIFIED:20260416T004414Z
UID:10001361-1774805400-1774812600@firstaztec.org
SUMMARY:Awana Club
DESCRIPTION:Awana Club\nEach Sunday – 5:30 pm\n4 Years Old to 6th Grade \nAwana club features large group time for weekly Bible messages and Awana awards\, small group time for Scripture learning and conversation and — because we can’t forget to have FUN — time for Awana Games! \nLearn More
URL:https://firstaztec.org/event/awana-club/2026-03-29/
LOCATION:Our Church\, 700 Navajo Ave\, Aztec\, NM\, 87410\, United States
CATEGORIES:Children
ATTACH;FMTTYPE=image/png:https://firstaztec.org/nsthree/wp-content/uploads/awana-clubs-logo-2.png
END:VEVENT
END:VCALENDAR