BEGIN:VCALENDAR
VERSION:2.0
PRODID:-//First Aztec - ECPv6.15.20//NONSGML v1.0//EN
CALSCALE:GREGORIAN
METHOD:PUBLISH
X-ORIGINAL-URL:https://firstaztec.org
X-WR-CALDESC:Events for First Aztec
REFRESH-INTERVAL;VALUE=DURATION:PT1H
X-Robots-Tag:noindex
X-PUBLISHED-TTL:PT1H
BEGIN:VTIMEZONE
TZID:America/Denver
BEGIN:DAYLIGHT
TZOFFSETFROM:-0700
TZOFFSETTO:-0600
TZNAME:MDT
DTSTART:20250309T090000
END:DAYLIGHT
BEGIN:STANDARD
TZOFFSETFROM:-0600
TZOFFSETTO:-0700
TZNAME:MST
DTSTART:20251102T080000
END:STANDARD
BEGIN:DAYLIGHT
TZOFFSETFROM:-0700
TZOFFSETTO:-0600
TZNAME:MDT
DTSTART:20260308T090000
END:DAYLIGHT
BEGIN:STANDARD
TZOFFSETFROM:-0600
TZOFFSETTO:-0700
TZNAME:MST
DTSTART:20261101T080000
END:STANDARD
BEGIN:DAYLIGHT
TZOFFSETFROM:-0700
TZOFFSETTO:-0600
TZNAME:MDT
DTSTART:20270314T090000
END:DAYLIGHT
BEGIN:STANDARD
TZOFFSETFROM:-0600
TZOFFSETTO:-0700
TZNAME:MST
DTSTART:20271107T080000
END:STANDARD
END:VTIMEZONE
BEGIN:VEVENT
DTSTART;TZID=America/Denver:20260301T080000
DTEND;TZID=America/Denver:20260301T120000
DTSTAMP:20260425T062904
CREATED:20260108T020838Z
LAST-MODIFIED:20260129T020709Z
UID:10002654-1772352000-1772366400@firstaztec.org
SUMMARY:Sunday Morning Services
DESCRIPTION:Sunday mornings start with breakfast at 8:00 am. Sunday School for all ages starts at 9:00 am followed by the Worship Service at 10:30 am.
URL:https://firstaztec.org/event/sunday-morning-services/2026-03-01/
CATEGORIES:Worship Service
ATTACH;FMTTYPE=image/jpeg:https://firstaztec.org/nsthree/wp-content/uploads/Worship-Services.jpg
END:VEVENT
BEGIN:VEVENT
DTSTART;TZID=America/Denver:20260304T173000
DTEND;TZID=America/Denver:20260304T193000
DTSTAMP:20260425T062904
CREATED:20260108T020446Z
LAST-MODIFIED:20260129T020814Z
UID:10002394-1772645400-1772652600@firstaztec.org
SUMMARY:Wednesday Services
DESCRIPTION:Wednesday nights start with a meal at 5:30 pm. Youth meet at 6:00 pm\, with Children and an Adult Service at 6:30 pm.
URL:https://firstaztec.org/event/wednesday-services/2026-03-04/
LOCATION:Our Church\, 700 Navajo Ave\, Aztec\, NM\, 87410\, United States
CATEGORIES:Worship Service
ATTACH;FMTTYPE=image/jpeg:https://firstaztec.org/nsthree/wp-content/uploads/Wednesday-Service.jpg
END:VEVENT
BEGIN:VEVENT
DTSTART;TZID=America/Denver:20260308T080000
DTEND;TZID=America/Denver:20260308T120000
DTSTAMP:20260425T062904
CREATED:20260108T020838Z
LAST-MODIFIED:20260129T020709Z
UID:10002655-1772956800-1772971200@firstaztec.org
SUMMARY:Sunday Morning Services
DESCRIPTION:Sunday mornings start with breakfast at 8:00 am. Sunday School for all ages starts at 9:00 am followed by the Worship Service at 10:30 am.
URL:https://firstaztec.org/event/sunday-morning-services/2026-03-08/
CATEGORIES:Worship Service
ATTACH;FMTTYPE=image/jpeg:https://firstaztec.org/nsthree/wp-content/uploads/Worship-Services.jpg
END:VEVENT
BEGIN:VEVENT
DTSTART;TZID=America/Denver:20260311T173000
DTEND;TZID=America/Denver:20260311T193000
DTSTAMP:20260425T062904
CREATED:20260108T020446Z
LAST-MODIFIED:20260129T020814Z
UID:10002395-1773250200-1773257400@firstaztec.org
SUMMARY:Wednesday Services
DESCRIPTION:Wednesday nights start with a meal at 5:30 pm. Youth meet at 6:00 pm\, with Children and an Adult Service at 6:30 pm.
URL:https://firstaztec.org/event/wednesday-services/2026-03-11/
LOCATION:Our Church\, 700 Navajo Ave\, Aztec\, NM\, 87410\, United States
CATEGORIES:Worship Service
ATTACH;FMTTYPE=image/jpeg:https://firstaztec.org/nsthree/wp-content/uploads/Wednesday-Service.jpg
END:VEVENT
BEGIN:VEVENT
DTSTART;TZID=America/Denver:20260315T080000
DTEND;TZID=America/Denver:20260315T120000
DTSTAMP:20260425T062904
CREATED:20260108T020838Z
LAST-MODIFIED:20260129T020709Z
UID:10002656-1773561600-1773576000@firstaztec.org
SUMMARY:Sunday Morning Services
DESCRIPTION:Sunday mornings start with breakfast at 8:00 am. Sunday School for all ages starts at 9:00 am followed by the Worship Service at 10:30 am.
URL:https://firstaztec.org/event/sunday-morning-services/2026-03-15/
CATEGORIES:Worship Service
ATTACH;FMTTYPE=image/jpeg:https://firstaztec.org/nsthree/wp-content/uploads/Worship-Services.jpg
END:VEVENT
BEGIN:VEVENT
DTSTART;TZID=America/Denver:20260318T173000
DTEND;TZID=America/Denver:20260318T193000
DTSTAMP:20260425T062904
CREATED:20260108T020446Z
LAST-MODIFIED:20260129T020814Z
UID:10002396-1773855000-1773862200@firstaztec.org
SUMMARY:Wednesday Services
DESCRIPTION:Wednesday nights start with a meal at 5:30 pm. Youth meet at 6:00 pm\, with Children and an Adult Service at 6:30 pm.
URL:https://firstaztec.org/event/wednesday-services/2026-03-18/
LOCATION:Our Church\, 700 Navajo Ave\, Aztec\, NM\, 87410\, United States
CATEGORIES:Worship Service
ATTACH;FMTTYPE=image/jpeg:https://firstaztec.org/nsthree/wp-content/uploads/Wednesday-Service.jpg
END:VEVENT
BEGIN:VEVENT
DTSTART;TZID=America/Denver:20260322T080000
DTEND;TZID=America/Denver:20260322T120000
DTSTAMP:20260425T062904
CREATED:20260108T020838Z
LAST-MODIFIED:20260129T020709Z
UID:10002657-1774166400-1774180800@firstaztec.org
SUMMARY:Sunday Morning Services
DESCRIPTION:Sunday mornings start with breakfast at 8:00 am. Sunday School for all ages starts at 9:00 am followed by the Worship Service at 10:30 am.
URL:https://firstaztec.org/event/sunday-morning-services/2026-03-22/
CATEGORIES:Worship Service
ATTACH;FMTTYPE=image/jpeg:https://firstaztec.org/nsthree/wp-content/uploads/Worship-Services.jpg
END:VEVENT
BEGIN:VEVENT
DTSTART;TZID=America/Denver:20260325T173000
DTEND;TZID=America/Denver:20260325T193000
DTSTAMP:20260425T062904
CREATED:20260108T020446Z
LAST-MODIFIED:20260129T020814Z
UID:10002397-1774459800-1774467000@firstaztec.org
SUMMARY:Wednesday Services
DESCRIPTION:Wednesday nights start with a meal at 5:30 pm. Youth meet at 6:00 pm\, with Children and an Adult Service at 6:30 pm.
URL:https://firstaztec.org/event/wednesday-services/2026-03-25/
LOCATION:Our Church\, 700 Navajo Ave\, Aztec\, NM\, 87410\, United States
CATEGORIES:Worship Service
ATTACH;FMTTYPE=image/jpeg:https://firstaztec.org/nsthree/wp-content/uploads/Wednesday-Service.jpg
END:VEVENT
BEGIN:VEVENT
DTSTART;TZID=America/Denver:20260329T080000
DTEND;TZID=America/Denver:20260329T120000
DTSTAMP:20260425T062904
CREATED:20260108T020838Z
LAST-MODIFIED:20260129T020709Z
UID:10002658-1774771200-1774785600@firstaztec.org
SUMMARY:Sunday Morning Services
DESCRIPTION:Sunday mornings start with breakfast at 8:00 am. Sunday School for all ages starts at 9:00 am followed by the Worship Service at 10:30 am.
URL:https://firstaztec.org/event/sunday-morning-services/2026-03-29/
CATEGORIES:Worship Service
ATTACH;FMTTYPE=image/jpeg:https://firstaztec.org/nsthree/wp-content/uploads/Worship-Services.jpg
END:VEVENT
END:VCALENDAR